BEGIN:VCALENDAR
VERSION:2.0
PRODID:-//Plone.org//NONSGML plone.app.event//EN
X-WR-TIMEZONE:US/Central
BEGIN:VEVENT
SUMMARY:Library Closed for Staff Meeting
DTSTART;TZID=US/Central:20260424T150000
DTEND;TZID=US/Central:20260424T170000
DTSTAMP:20260423T062708Z
UID:9d4c243e2833482db351b8954982ba4c@saas_stack_varnish:6080
CREATED:20260423T002848Z
LAST-MODIFIED:20260423T002913Z
URL:https://www.lebanon-laclede.lib.mo.us/calendar-news/events/library-clo
 sed-for-staff-meeting
END:VEVENT
BEGIN:VTIMEZONE
TZID:US/Central
X-LIC-LOCATION:US/Central
BEGIN:DAYLIGHT
DTSTART:20260308T030000
TZNAME:CDT
TZOFFSETFROM:-0600
TZOFFSETTO:-0500
END:DAYLIGHT
END:VTIMEZONE
END:VCALENDAR
