BEGIN:VCALENDAR
VERSION:2.0
PRODID:-//Plone.org//NONSGML plone.app.event//EN
X-WR-TIMEZONE:US/Central
BEGIN:VEVENT
SUMMARY:Patron Appreciation Day
DTSTART;TZID=US/Central:20260422T090000
DTEND;TZID=US/Central:20260422T130000
DTSTAMP:20260422T101923Z
UID:72d82fdd53f04fd29b792aa32cb61aeb@saas_stack_varnish:6080
CREATED:20260317T173646Z
LAST-MODIFIED:20260317T173702Z
URL:https://www.lebanon-laclede.lib.mo.us/calendar-news/events/patron-appr
 eciation-day
END:VEVENT
BEGIN:VEVENT
SUMMARY:Storytime
DTSTART;TZID=US/Central:20260422T100000
DTEND;TZID=US/Central:20260422T110000
DTSTAMP:20260422T101923Z
UID:2f9f39119ab747a3b37993e458acb282@saas_stack_varnish:6080
RRULE:FREQ=WEEKLY;UNTIL=20260501T000000;BYDAY=WE,TH
CREATED:20260101T172245Z
LAST-MODIFIED:20260408T011502Z
URL:https://www.lebanon-laclede.lib.mo.us/calendar-news/events/storytime-8
END:VEVENT
BEGIN:VTIMEZONE
TZID:US/Central
X-LIC-LOCATION:US/Central
BEGIN:DAYLIGHT
DTSTART:20260308T030000
TZNAME:CDT
TZOFFSETFROM:-0600
TZOFFSETTO:-0500
END:DAYLIGHT
END:VTIMEZONE
END:VCALENDAR
